BEGIN:VCALENDAR
VERSION:2.0
PRODID:-//Daniel Mildenberger GmbH - ECPv6.15.20//NONSGML v1.0//EN
CALSCALE:GREGORIAN
METHOD:PUBLISH
X-ORIGINAL-URL:https://mildenberger-gmbh.de
X-WR-CALDESC:Veranstaltungen für Daniel Mildenberger GmbH
REFRESH-INTERVAL;VALUE=DURATION:PT1H
X-Robots-Tag:noindex
X-PUBLISHED-TTL:PT1H
BEGIN:VTIMEZONE
TZID:UTC
BEGIN:STANDARD
TZOFFSETFROM:+0000
TZOFFSETTO:+0000
TZNAME:UTC
DTSTART:20240101T000000
END:STANDARD
END:VTIMEZONE
BEGIN:VEVENT
DTSTART;TZID=UTC:20250301T110000
DTEND;TZID=UTC:20250302T170000
DTSTAMP:20260421T060731
CREATED:20250210T092854Z
LAST-MODIFIED:20250217T093333Z
UID:72277-1740826800-1740934800@mildenberger-gmbh.de
SUMMARY:Hausmesse Aspach
DESCRIPTION:Traumgarten & Wohnen – Unsere große Hausmesse macht’s möglich!\nEntdecke die Highlights für drinnen und draußen: \n\nTerrassendächer: Die neuesten Modelle für gemütliche Stunden im Freien\nOutdoor-Möbel: Stilvolle und bequeme Einrichtung für deine Terrasse\nGrills: Von klassischen Holzkohlegrills bis zu modernen Gasgrills\nFenster & Türen: Top-Qualität und Design von Jas-Geist\nKulinarisches: Lass dich von unseren Crêpes und weiteren Leckereien verwöhnen\nSpiel & Spaß: Hüpfburg für die kleinen Besucher
URL:https://mildenberger-gmbh.de/event/hausmesse-aspach/
LOCATION:Daniel Mildenberger GmbH\, Boschstraße 5/1\, Aspach\, 75179\, Germany
CATEGORIES:Hausmesse,Messe
ATTACH;FMTTYPE=image/jpeg:https://mildenberger-gmbh.de/wp-content/uploads/2025/02/2024_DM_Banner-Aspach-Strasse-Hausmesse_Webseite.jpg
ORGANIZER;CN="Daniel Mildenberger GmbH":MAILTO:info@mildenberger-gmbh.de
END:VEVENT
BEGIN:VEVENT
DTSTART;VALUE=DATE:20250308
DTEND;VALUE=DATE:20250309
DTSTAMP:20260421T060731
CREATED:20250210T115724Z
LAST-MODIFIED:20250304T111853Z
UID:72343-1741392000-1741478399@mildenberger-gmbh.de
SUMMARY:Saisonopening Grillgott
DESCRIPTION:
URL:https://mildenberger-gmbh.de/event/saisonopening-grillgott/
LOCATION:GrillGott GmbH\, Seestraße 5/1\, Abstatt\, 74232\, Germany
CATEGORIES:Messe
ATTACH;FMTTYPE=image/png:https://mildenberger-gmbh.de/wp-content/uploads/2025/02/Opening-25-Feed.png
END:VEVENT
END:VCALENDAR