BEGIN:VCALENDAR
VERSION:2.0
PRODID:-//Daniel Mildenberger GmbH - ECPv6.15.20//NONSGML v1.0//EN
CALSCALE:GREGORIAN
METHOD:PUBLISH
X-ORIGINAL-URL:https://mildenberger-gmbh.de
X-WR-CALDESC:Veranstaltungen für Daniel Mildenberger GmbH
REFRESH-INTERVAL;VALUE=DURATION:PT1H
X-Robots-Tag:noindex
X-PUBLISHED-TTL:PT1H
BEGIN:VTIMEZONE
TZID:UTC
BEGIN:STANDARD
TZOFFSETFROM:+0000
TZOFFSETTO:+0000
TZNAME:UTC
DTSTART:20250101T000000
END:STANDARD
END:VTIMEZONE
BEGIN:VEVENT
DTSTART;VALUE=DATE:20260314
DTEND;VALUE=DATE:20260315
DTSTAMP:20260420T100013
CREATED:20251218T122316Z
LAST-MODIFIED:20260304T095233Z
UID:72463-1773446400-1773532799@mildenberger-gmbh.de
SUMMARY:Saisonopening Grillgott 2026
DESCRIPTION:
URL:https://mildenberger-gmbh.de/event/saisonopening-grillgott-2026/
LOCATION:GrillGott GmbH\, Seestraße 5/1\, Abstatt\, 74232\, Germany
CATEGORIES:Messe
ATTACH;FMTTYPE=image/webp:https://mildenberger-gmbh.de/wp-content/uploads/2025/12/Opening_26_Shop_Banner_cceb3110-a8ee-4002-b160-52457a5a7fd0_875x612_crop_center-e1772617948339.webp
END:VEVENT
END:VCALENDAR